BEGIN:VCALENDAR
VERSION:2.0
PRODID:-//Leins Gardonnenque - ECPv4.9.8//NONSGML v1.0//EN
CALSCALE:GREGORIAN
METHOD:PUBLISH
X-WR-CALNAME:Leins Gardonnenque
X-ORIGINAL-URL:https://www.leinsgardonnenque.fr
X-WR-CALDESC:Évènements pour Leins Gardonnenque
BEGIN:VTIMEZONE
TZID:Europe/Paris
BEGIN:DAYLIGHT
TZOFFSETFROM:+0100
TZOFFSETTO:+0200
TZNAME:CEST
DTSTART:20200329T010000
END:DAYLIGHT
BEGIN:STANDARD
TZOFFSETFROM:+0200
TZOFFSETTO:+0100
TZNAME:CET
DTSTART:20201025T010000
END:STANDARD
END:VTIMEZONE
BEGIN:VEVENT
DTSTART;TZID="Europe/Paris":20200117T190000
DTEND;TZID="Europe/Paris":20200119T210000
DTSTAMP:20260421T191948
CREATED:20191216T113439Z
LAST-MODIFIED:20200113T081315Z
UID:1159-1579287600-1579467600@www.leinsgardonnenque.fr
SUMMARY:Saint Vincent des Leins : les 10 ans !
DESCRIPTION:La Saint Vincent des Leins a 10 ans !\n\nNous souhaitons donc faire des 10 ans un événement exceptionnel\, sous un chapiteau de cirque.\n\nL’événement qui a toujours eu lieu en format soirée\, type bar à vin\, un samedi soir\, se transformerait le temps d’un week-end en un événement anniversaire sur 3 jours.\n\n\n\nRéservations en ligne :\nAccord Mets & Vins du samedi midi : annulé\nAccord Mets & Vins du dimanche midi : https://www.helloasso.com/associations/lol-a/evenements/accord-mets-vin-dimanche-19-janvier \nAtelier Sophro & Vin : https://www.helloasso.com/associations/lol-a/evenements/saint-vincent-des-leins\nProjet cofinancé par le Fonds Européen Agricole pour le Développement Rural\nL’Europe investit dans les zones rurales\n\nPour en savoir + : https://www.leinsgardonnenque.fr/saint-vincent-des-leins/
URL:https://www.leinsgardonnenque.fr/evenement/saint-vincent-des-leins-les-10-ans/
LOCATION:Montignargues\, Montignargues\, 30190\, France
ATTACH;FMTTYPE=image/jpeg:https://www.leinsgardonnenque.fr/wp-content/uploads/2019/12/Affiche-visuel.jpg
END:VEVENT
END:VCALENDAR